BEGIN:VCALENDAR
VERSION:2.0
PRODID:-//Urpeth Parish Council//Meeting Calendar//EN
CALSCALE:GREGORIAN
METHOD:PUBLISH
BEGIN:VEVENT
UID:70814-20260317@urpethparish.gov.uk
DTSTAMP:20260421T080605Z
DTSTART;VALUE=DATE:20260317
DTEND;VALUE=DATE:20260318
SUMMARY:Council Meeting &#8211\\; 17 March 2026
DESCRIPTION:Full Council Meeting\nView details: https://urpethparish.gov.uk/meetings/council-meeting-17-march-2026/
URL:https://urpethparish.gov.uk/meetings/council-meeting-17-march-2026/
END:VEVENT
END:VCALENDAR
