BEGIN:VCALENDAR
VERSION:2.0
PRODID:-//Urpeth Parish Council//Meeting Calendar//EN
CALSCALE:GREGORIAN
METHOD:PUBLISH
BEGIN:VEVENT
UID:70813-20260217@urpethparish.gov.uk
DTSTAMP:20260422T085721Z
DTSTART;VALUE=DATE:20260217
DTEND;VALUE=DATE:20260218
SUMMARY:Council Meeting &#8211\\; 17 February 2026
DESCRIPTION:Full Council Meeting\nView details: https://urpethparish.gov.uk/meetings/council-meeting-17-february-2026/
URL:https://urpethparish.gov.uk/meetings/council-meeting-17-february-2026/
END:VEVENT
END:VCALENDAR
