BEGIN:VCALENDAR
VERSION:2.0
PRODID:-//Urpeth Parish Council//Meeting Calendar//EN
CALSCALE:GREGORIAN
METHOD:PUBLISH
BEGIN:VEVENT
UID:70731-20260120@urpethparish.gov.uk
DTSTAMP:20260419T152820Z
DTSTART;VALUE=DATE:20260120
DTEND;VALUE=DATE:20260121
SUMMARY:Council Meeting &#8211\\; 20 January 2026
DESCRIPTION:Full Council Meeting\nView details: https://urpethparish.gov.uk/meetings/council-meeting-4/
URL:https://urpethparish.gov.uk/meetings/council-meeting-4/
END:VEVENT
END:VCALENDAR
