BEGIN:VCALENDAR
VERSION:2.0
PRODID:-//Urpeth Parish Council//Meeting Calendar//EN
CALSCALE:GREGORIAN
METHOD:PUBLISH
BEGIN:VEVENT
UID:70701-20250520@urpethparish.gov.uk
DTSTAMP:20260421T080728Z
DTSTART;VALUE=DATE:20250520
DTEND;VALUE=DATE:20250521
SUMMARY:Annual Meeting of Urpeth Parish Council
DESCRIPTION:Annual Meeting\nView details: https://urpethparish.gov.uk/meetings/annual-meeting-of-urpeth-parish-council/
URL:https://urpethparish.gov.uk/meetings/annual-meeting-of-urpeth-parish-council/
END:VEVENT
END:VCALENDAR
