BEGIN:VCALENDAR
VERSION:2.0
PRODID:-//Urpeth Parish Council//Meeting Calendar//EN
CALSCALE:GREGORIAN
METHOD:PUBLISH
BEGIN:VEVENT
UID:70648-20250121@urpethparish.gov.uk
DTSTAMP:20260419T153601Z
DTSTART;VALUE=DATE:20250121
DTEND;VALUE=DATE:20250122
SUMMARY:21 January 2025
DESCRIPTION:Full Council Meeting\nView details: https://urpethparish.gov.uk/meetings/21-january-2025/
URL:https://urpethparish.gov.uk/meetings/21-january-2025/
END:VEVENT
END:VCALENDAR
