BEGIN:VCALENDAR
VERSION:2.0
PRODID:-//Urpeth Parish Council//Meeting Calendar//EN
CALSCALE:GREGORIAN
METHOD:PUBLISH
BEGIN:VEVENT
UID:70574-20240521@urpethparish.gov.uk
DTSTAMP:20260422T085312Z
DTSTART;VALUE=DATE:20240521
DTEND;VALUE=DATE:20240522
SUMMARY:Annual Meeting of the Council
DESCRIPTION:Annual Meeting\nView details: https://urpethparish.gov.uk/meetings/annual-meeting-of-the-council/
URL:https://urpethparish.gov.uk/meetings/annual-meeting-of-the-council/
END:VEVENT
END:VCALENDAR
