BEGIN:VCALENDAR
VERSION:2.0
PRODID:-//Urpeth Parish Council//Meeting Calendar//EN
CALSCALE:GREGORIAN
METHOD:PUBLISH
BEGIN:VEVENT
UID:70565-20240416@urpethparish.gov.uk
DTSTAMP:20260419T122131Z
DTSTART;VALUE=DATE:20240416
DTEND;VALUE=DATE:20240417
SUMMARY:Council Meeting &#8211\\; 16 April 2024
DESCRIPTION:Full Council Meeting\nView details: https://urpethparish.gov.uk/meetings/council-meeting/
URL:https://urpethparish.gov.uk/meetings/council-meeting/
END:VEVENT
END:VCALENDAR
