BEGIN:VCALENDAR
VERSION:2.0
PRODID:-//Urpeth Parish Council//Meeting Calendar//EN
CALSCALE:GREGORIAN
METHOD:PUBLISH
BEGIN:VEVENT
UID:70515-20210525@urpethparish.gov.uk
DTSTAMP:20260421T080119Z
DTSTART;VALUE=DATE:20210525
DTEND;VALUE=DATE:20210526
SUMMARY:Annual Meeting &#8211\\; 25th May 2021
DESCRIPTION:Annual Meeting\nView details: https://urpethparish.gov.uk/meetings/annual-meeting-25th-may-2021/
URL:https://urpethparish.gov.uk/meetings/annual-meeting-25th-may-2021/
END:VEVENT
END:VCALENDAR
